BEGIN:VCALENDAR
VERSION:2.0
PRODID:-//Tukios.com/
BEGIN:VEVENT
UID:7be46057-bda3-4ff3-9b0c-de6cb5b15d78@www.wheelerfuneralhome.net
DTSTAMP:20260422T184521Z
DTSTART:20260427T190000Z
DTEND:20260427T200000Z
SUMMARY:Funeral Service
DESCRIPTION:
URL:https://www.wheelerfuneralhome.net/obituaries/luis-chiesa-sr
LOCATION: 612 W Jackson St  El Campo TX 77437
GEO:29.1933934;-96.2756246
END:VEVENT
END:VCALENDAR