BEGIN:VCALENDAR
VERSION:2.0
PRODID:-//Tukios.com/
BEGIN:VEVENT
UID:0b807f2f-bf08-4043-b3ee-f383266c721b@www.wheelerfuneralhome.net
DTSTAMP:20260422T184651Z
DTSTART:20260427T170000Z
DTEND:20260427T190000Z
SUMMARY:Visitation
DESCRIPTION:
URL:https://www.wheelerfuneralhome.net/obituaries/luis-chiesa-sr
LOCATION: 612 W Jackson St  El Campo TX 77437
GEO:29.1933934;-96.2756246
END:VEVENT
END:VCALENDAR