BEGIN:VCALENDAR
VERSION:2.0
PRODID:-//Tukios.com/
BEGIN:VEVENT
UID:d90ecfb5-e0f7-499b-b901-1954a77d9e91@www.wheelerfuneralhome.net
DTSTAMP:20260424T012755Z
DTSTART:20260428T180000Z
DTEND:20260428T184500Z
SUMMARY:Celebration of Life
DESCRIPTION:
URL:https://www.wheelerfuneralhome.net/obituaries/glenn-roody
LOCATION: 612 W Jackson St  El Campo TX 77437
GEO:29.1933934;-96.2756246
END:VEVENT
END:VCALENDAR