BEGIN:VCALENDAR
VERSION:2.0
PRODID:-//Tukios.com/
BEGIN:VEVENT
UID:fce95734-8527-4893-9d3c-682e4869483b@www.wheelerfuneralhome.net
DTSTAMP:20260424T012536Z
DTSTART:20260428T170000Z
DTEND:20260428T180000Z
SUMMARY:Visitation
DESCRIPTION:
URL:https://www.wheelerfuneralhome.net/obituaries/glenn-roody
LOCATION: 612 W Jackson St  El Campo TX 77437
GEO:29.1933934;-96.2756246
END:VEVENT
END:VCALENDAR